BEGIN:VCALENDAR
PRODID:-//eluceo/ical//2.0/EN
VERSION:2.0
CALSCALE:GREGORIAN
BEGIN:VEVENT
UID:event-281
DTSTAMP:20260424T101118Z
SUMMARY:Maastricht Hoppen
DESCRIPTION:Goojendag Juribessers\,   18 maart zullen wij een dagje weg ga
 an naar Maastricht. Op deze dag zullen we langs het provinciehuis gaan om 
 in gesprek te gaan met gedeputeerde Michael Theuns in de Statenzaal. Na di
 t gesprek trekken we meer de stad in richting het European Institute of Pu
 blic Administration (EIPA). We zullen hier een introductie krijgen over wa
 t EIPA inhoudt en we krijgen hier een rondleiding. Als afsluiting van de d
 ag zullen we gezellig gaan borrelen met een gratis drankje.    Voor deze
  activiteit geldt het No Show beleid van Magister. Extra reden dus om gewo
 on te komen!!  We zien jullie dan💜💜!!!
DTSTART:20240318T094500Z
DTEND:20240318T160000Z
LOCATION:Maastricht
END:VEVENT
BEGIN:VTIMEZONE
TZID:UTC
BEGIN:STANDARD
DTSTART:20240318T094500
TZNAME:UTC
TZOFFSETTO:+0000
TZOFFSETFROM:+0000
END:STANDARD
END:VTIMEZONE
END:VCALENDAR
