BEGIN:VCALENDAR
PRODID:-//eluceo/ical//2.0/EN
VERSION:2.0
CALSCALE:GREGORIAN
BEGIN:VEVENT
UID:event-239
DTSTAMP:20260419T172819Z
SUMMARY:Active Members Day
DESCRIPTION:English below  ACTIVE MEMBERS DAY  Beste Magisterleden\, Op 3
 0 november is het zover\, de Active members day!  Op deze dag verzamelen 
 we om 17.00 bij de Dolfijn om met zijn allen 2 uurtjes te bowlen🎳 en hi
 erna ook avond te eten!🐬 Gedurende twee uur tijdens deze activiteit\, z
 al bier/wijn/fris gratis zijn! 🍻 De dag eindigt zoals gebruikelijk bij
  het gezellige Brandpunt waar we met zijn allen lekker kunnen borrelen.
 🕺 We hopen jullie allemaal op deze leuke dag te zien!  Liefs\,  De Ac
 cie ❤️ —— Dear Magister members\, On November 30th it's finally ti
 me for the Active members day! On this day we gather at 5 p.m. at the Dolf
 ijn to go bowling for 2 hours 🎳 and have dinner afterwards!🐬 For two
  hours during this event\, beer/wine/soda will be free! 🍻 The day ends
  at Brandpunt where we can all have a drink. 🕺 We hope to see you all o
 n this fun day! Love\, The Activity commitee ❤️
DTSTART:20231130T153000Z
DTEND:20231130T230000Z
LOCATION:De Dolfijn
END:VEVENT
BEGIN:VTIMEZONE
TZID:UTC
BEGIN:STANDARD
DTSTART:20231130T153000
TZNAME:UTC
TZOFFSETTO:+0000
TZOFFSETFROM:+0000
END:STANDARD
END:VTIMEZONE
END:VCALENDAR
