BEGIN:VCALENDAR
PRODID:-//eluceo/ical//2.0/EN
VERSION:2.0
CALSCALE:GREGORIAN
BEGIN:VEVENT
UID:event-219
DTSTAMP:20260424T100203Z
SUMMARY:Training met De Kleine Consultant 
DESCRIPTION:Training met De Kleine Consultant 💜 Op 28 september om 19:00
 u zal De Kleine Consultant een case training voor ons organiseren! Met beh
 ulp van experts van De Kleine Consultant zullen we samenwerken om de casus
  op strategische wijze op te lossen 💼👩🏻‍💻. Het belooft een l
 euke en interessante activiteit  te worden. We zullen de avond afsluiten 
 met een borrel! Aanmelden is gratis!
DTSTART:20230928T170000Z
DTEND:20230928T190000Z
END:VEVENT
BEGIN:VTIMEZONE
TZID:UTC
BEGIN:STANDARD
DTSTART:20230928T170000
TZNAME:UTC
TZOFFSETTO:+0000
TZOFFSETFROM:+0000
END:STANDARD
END:VTIMEZONE
END:VCALENDAR
