BEGIN:VCALENDAR
PRODID:-//eluceo/ical//2.0/EN
VERSION:2.0
CALSCALE:GREGORIAN
BEGIN:VEVENT
UID:event-210
DTSTAMP:20260424T094530Z
SUMMARY:Constitution Drink
DESCRIPTION:On Wednesday\, the 30th of August\, the 20th Daily Board of Mag
 ister JFT will be discharged and the 21st Daily Board of Magister JFT will
  be installed during the Change of Boards GMM. To celebrate this festive o
 ccasion\, we will be heading to the Vrienden van Tilburg afterwards for th
 e Constitution Drink! This drink will start at 21:00 and includes free bee
 r for all attendees for the entire night. However\, make sure to sign up v
 ia our website\; otherwise we can't guarantee your entrance! No reason not
  to come\, so hopefully we'll see you on August 30th!
DTSTART:20230830T190000Z
DTEND:20230830T215959Z
LOCATION:De Vrienden van Tilburg
END:VEVENT
BEGIN:VTIMEZONE
TZID:UTC
BEGIN:STANDARD
DTSTART:20230830T190000
TZNAME:UTC
TZOFFSETTO:+0000
TZOFFSETFROM:+0000
END:STANDARD
END:VTIMEZONE
END:VCALENDAR
